BEGIN:VCALENDAR
VERSION:2.0
PRODID:-//ICLD//EN
CALSCALE:GREGORIAN
METHOD:PUBLISH
BEGIN:VEVENT
UID:38525@icld.se
DTSTAMP:20260420T110128Z
DTSTART;VALUE=DATE:20251110
DTEND;VALUE=DATE:20251111
SUMMARY:World Science Day for Peace and Development
DESCRIPTION:https://icld.se/sv/kalendarium/world-science-day-for-peace-and-development/
URL:https://icld.se/sv/kalendarium/world-science-day-for-peace-and-development/
END:VEVENT
END:VCALENDAR
