BEGIN:VCALENDAR
VERSION:2.0
PRODID:-//ICLD//EN
CALSCALE:GREGORIAN
METHOD:PUBLISH
BEGIN:VEVENT
UID:38503@icld.se
DTSTAMP:20260420T110150Z
DTSTART;VALUE=DATE:20250407
DTEND;VALUE=DATE:20250408
SUMMARY:World Health Day
DESCRIPTION:https://icld.se/sv/kalendarium/world-health-day/
URL:https://icld.se/sv/kalendarium/world-health-day/
END:VEVENT
END:VCALENDAR
