BEGIN:VCALENDAR
VERSION:2.0
PRODID:-//ICLD//EN
CALSCALE:GREGORIAN
METHOD:PUBLISH
BEGIN:VEVENT
UID:38507@icld.se
DTSTAMP:20260420T110146Z
DTSTART;VALUE=DATE:20250521
DTEND;VALUE=DATE:20250522
SUMMARY:World Day for Cultural Diversity for Dialogue and Development
DESCRIPTION:https://icld.se/sv/kalendarium/world-day-for-cultural-diversity-for-dialogue-and-development/
URL:https://icld.se/sv/kalendarium/world-day-for-cultural-diversity-for-dialogue-and-development/
END:VEVENT
END:VCALENDAR
