BEGIN:VCALENDAR
VERSION:2.0
PRODID:-//ICLD//EN
CALSCALE:GREGORIAN
METHOD:PUBLISH
BEGIN:VEVENT
UID:38521@icld.se
DTSTAMP:20260420T110132Z
DTSTART;VALUE=DATE:20250920
DTEND;VALUE=DATE:20250921
SUMMARY:World Cleanup Day
DESCRIPTION:https://icld.se/sv/kalendarium/world-cleanup-day/
URL:https://icld.se/sv/kalendarium/world-cleanup-day/
END:VEVENT
END:VCALENDAR
