BEGIN:VCALENDAR
VERSION:2.0
PRODID:-//ICLD//EN
CALSCALE:GREGORIAN
METHOD:PUBLISH
BEGIN:VEVENT
UID:38553@icld.se
DTSTAMP:20260420T110106Z
DTSTART:20250901T060000Z
DTEND:20250912T150000Z
SUMMARY:Women’s Political Leadership programme Workshop
DESCRIPTION:Sweden\n\nhttps://icld.se/sv/kalendarium/womens-political-leadership-programme-workshop-2/
URL:https://icld.se/sv/kalendarium/womens-political-leadership-programme-workshop-2/
END:VEVENT
END:VCALENDAR
