BEGIN:VCALENDAR
VERSION:2.0
PRODID:-//ICLD//EN
CALSCALE:GREGORIAN
METHOD:PUBLISH
BEGIN:VEVENT
UID:38396@icld.se
DTSTAMP:20260420T110328Z
DTSTART:20230327T080000Z
DTEND:20230328T200000Z
SUMMARY:Women to Ukraine (W2U) Marathon
DESCRIPTION:For 24 hours\, on the real stage in Kyiv and on the virtual stage around the world\, we talk about the impact of war on women\, about their role in the approach of victory and the future process of reconstruction\, about the consequences of war for the whole society. Ukrainian and international experts will gather [&hellip\;]\n\nhttps://icld.se/sv/kalendarium/women-to-ukraine-w2u-marathon/
URL:https://icld.se/sv/kalendarium/women-to-ukraine-w2u-marathon/
END:VEVENT
END:VCALENDAR
