BEGIN:VCALENDAR
VERSION:2.0
PRODID:-//ICLD//EN
CALSCALE:GREGORIAN
METHOD:PUBLISH
BEGIN:VEVENT
UID:38386@icld.se
DTSTAMP:20260420T110330Z
DTSTART:20230522T060000Z
DTEND:20230602T150000Z
SUMMARY:Women Political Leadership &#8211\; Swedish Phase
DESCRIPTION:https://icld.se/sv/kalendarium/women-political-leadership/
URL:https://icld.se/sv/kalendarium/women-political-leadership/
END:VEVENT
END:VCALENDAR
