BEGIN:VCALENDAR
VERSION:2.0
PRODID:-//ICLD//EN
CALSCALE:GREGORIAN
METHOD:PUBLISH
BEGIN:VEVENT
UID:38582@icld.se
DTSTAMP:20260420T110040Z
DTSTART:20251006T060000Z
DTEND:20251006T150000Z
SUMMARY:Synergy in Action: Partnerships Between Business\, Municipalities\, and Development Cooperation 
DESCRIPTION:&#8221\;Synergy in Action: Partnerships Between Business\, Municipalities\, and Development Cooperation&#8221\; is a dynamic and interactive event designed to foster collaboration across key sectors—business\, local government\, and development cooperation. This event aims to explore how synergies between these sectors can drive impactful solutions to today’s most pressing global challenges\, particularly in aid\, trade\, and sustainable development. [&hellip\;]\n\nhttps://icld.se/sv/kalendarium/synergy-in-action-partnerships-between-business-municipalities-and-development-cooperation/
URL:https://icld.se/sv/kalendarium/synergy-in-action-partnerships-between-business-municipalities-and-development-cooperation/
END:VEVENT
END:VCALENDAR
