BEGIN:VCALENDAR
VERSION:2.0
PRODID:-//ICLD//EN
CALSCALE:GREGORIAN
METHOD:PUBLISH
BEGIN:VEVENT
UID:38357@icld.se
DTSTAMP:20260420T110401Z
DTSTART:20221101T070000Z
DTEND:20221103T160000Z
SUMMARY:SymbioCity final workshop
DESCRIPTION:The final workshop of cohort 7 of SymbioCity ITP programme held in Yogyakarta\, Indonesia.\n\nhttps://icld.se/sv/kalendarium/symbiocity-final-workshop/
URL:https://icld.se/sv/kalendarium/symbiocity-final-workshop/
END:VEVENT
END:VCALENDAR
