BEGIN:VCALENDAR
VERSION:2.0
PRODID:-//ICLD//EN
CALSCALE:GREGORIAN
METHOD:PUBLISH
BEGIN:VEVENT
UID:38450@icld.se
DTSTAMP:20260420T110234Z
DTSTART:20240512T060000Z
DTEND:20240524T150000Z
SUMMARY:Women’s Political Leadership Swedish Phase
DESCRIPTION:https://icld.se/sv/kalendarium/swedish-phase-workshop-womens-political-leadershipswedish-phase-workshop/
URL:https://icld.se/sv/kalendarium/swedish-phase-workshop-womens-political-leadershipswedish-phase-workshop/
END:VEVENT
END:VCALENDAR
