BEGIN:VCALENDAR
VERSION:2.0
PRODID:-//ICLD//EN
CALSCALE:GREGORIAN
METHOD:PUBLISH
BEGIN:VEVENT
UID:38326@icld.se
DTSTAMP:20260420T110028Z
DTSTART:20220328T120000Z
DTEND:20220328T133000Z
SUMMARY:International Seminar &#8211\; How to Make a Voluntary Local Review (VLR)
DESCRIPTION:Planning a Sustainability Report? Why not make a VLR! Join us!  On this viritual seminar\, you will get the opportunity to learn basic steps to start a VLR\, how to include civil society in the VLR process\, and how to learn from other local governments wih Glocal Partnerships ficanced by ICLD. This seminar is jointly [&hellip\;]\n\nhttps://icld.se/sv/kalendarium/seminar-om-vlr/
URL:https://icld.se/sv/kalendarium/seminar-om-vlr/
END:VEVENT
END:VCALENDAR
