BEGIN:VCALENDAR
VERSION:2.0
PRODID:-//ICLD//EN
CALSCALE:GREGORIAN
METHOD:PUBLISH
BEGIN:VEVENT
UID:38356@icld.se
DTSTAMP:20260420T110008Z
DTSTART:20221026T100000Z
DTEND:20221026T120000Z
SUMMARY:Reflections from the field
DESCRIPTION:Go to the event in Zoom\n\nhttps://icld.se/sv/kalendarium/reflections-from-the-field-2/
URL:https://icld.se/sv/kalendarium/reflections-from-the-field-2/
END:VEVENT
END:VCALENDAR
