BEGIN:VCALENDAR
VERSION:2.0
PRODID:-//ICLD//EN
CALSCALE:GREGORIAN
METHOD:PUBLISH
BEGIN:VEVENT
UID:38490@icld.se
DTSTAMP:20260420T105922Z
DTSTART:20241016T163000Z
DTEND:20241016T173000Z
SUMMARY:Politikerförakt och ungdomars syn på demokratin
DESCRIPTION:Johan föreläser i Hörsalen (E22) Almedalsbiblioteket i Visby Arrangör: Humanisterna Gotland\n\nhttps://icld.se/sv/kalendarium/politikerforakt-och-ungdomars-syn-pa-demokratin/
URL:https://icld.se/sv/kalendarium/politikerforakt-och-ungdomars-syn-pa-demokratin/
END:VEVENT
END:VCALENDAR
