BEGIN:VCALENDAR
VERSION:2.0
PRODID:-//ICLD//EN
CALSCALE:GREGORIAN
METHOD:PUBLISH
BEGIN:VEVENT
UID:38264@icld.se
DTSTAMP:20260420T110516Z
DTSTART:20210920T080000Z
DTEND:20210921T120000Z
SUMMARY:Partnerships for Human Rights &#8211\; Hybrid Conference
DESCRIPTION:Partnerships for Human Rights\, the network of municipal partnerships focusing on Human Rights and rights-based approach to democracy development\, will engage in an online meeting with optional physical meetings in each country. Network and experts share HR knowledge and experiences. LFA part II. Support on writing applications for Project and Steering Group.\n\nhttps://icld.se/sv/kalendarium/partnerships-for-human-rights-hybrid-conference/
URL:https://icld.se/sv/kalendarium/partnerships-for-human-rights-hybrid-conference/
END:VEVENT
END:VCALENDAR
