BEGIN:VCALENDAR
VERSION:2.0
PRODID:-//ICLD//EN
CALSCALE:GREGORIAN
METHOD:PUBLISH
BEGIN:VEVENT
UID:38479@icld.se
DTSTAMP:20260420T105940Z
DTSTART:20240826T143000Z
DTEND:20240826T160000Z
SUMMARY:Panel Debate: Hope and Local Democracy in Times of Crisis
DESCRIPTION:https://icld.se/sv/kalendarium/panel-debate-hope-and-local-democracy-in-times-of-crisis/
URL:https://icld.se/sv/kalendarium/panel-debate-hope-and-local-democracy-in-times-of-crisis/
END:VEVENT
END:VCALENDAR
