BEGIN:VCALENDAR
VERSION:2.0
PRODID:-//ICLD//EN
CALSCALE:GREGORIAN
METHOD:PUBLISH
BEGIN:VEVENT
UID:38438@icld.se
DTSTAMP:20260420T110246Z
DTSTART:20240410T060000Z
DTEND:20240412T150000Z
SUMMARY:Network meeting Sustainable Future
DESCRIPTION:https://icld.se/sv/kalendarium/network-meeting-sustainable-future/
URL:https://icld.se/sv/kalendarium/network-meeting-sustainable-future/
END:VEVENT
END:VCALENDAR
