BEGIN:VCALENDAR
VERSION:2.0
PRODID:-//ICLD//EN
CALSCALE:GREGORIAN
METHOD:PUBLISH
BEGIN:VEVENT
UID:38448@icld.se
DTSTAMP:20260420T110236Z
DTSTART:20240423T060000Z
DTEND:20240426T150000Z
SUMMARY:Network meeting Human Rights Youth
DESCRIPTION:https://icld.se/sv/kalendarium/network-meeting-human-rights-youth/
URL:https://icld.se/sv/kalendarium/network-meeting-human-rights-youth/
END:VEVENT
END:VCALENDAR
