BEGIN:VCALENDAR
VERSION:2.0
PRODID:-//ICLD//EN
CALSCALE:GREGORIAN
METHOD:PUBLISH
BEGIN:VEVENT
UID:38417@icld.se
DTSTAMP:20260420T110304Z
DTSTART:20231009T060000Z
DTEND:20231013T150000Z
SUMMARY:Network meeting Human Rights
DESCRIPTION:https://icld.se/sv/kalendarium/network-meeting-human-rights-2/
URL:https://icld.se/sv/kalendarium/network-meeting-human-rights-2/
END:VEVENT
END:VCALENDAR
