BEGIN:VCALENDAR
VERSION:2.0
PRODID:-//ICLD//EN
CALSCALE:GREGORIAN
METHOD:PUBLISH
BEGIN:VEVENT
UID:38413@icld.se
DTSTAMP:20260420T110308Z
DTSTART:20231121T070000Z
DTEND:20231123T160000Z
SUMMARY:Network meeting Climate
DESCRIPTION:https://icld.se/sv/kalendarium/network-meeting-climate-2/
URL:https://icld.se/sv/kalendarium/network-meeting-climate-2/
END:VEVENT
END:VCALENDAR
