BEGIN:VCALENDAR
VERSION:2.0
PRODID:-//ICLD//EN
CALSCALE:GREGORIAN
METHOD:PUBLISH
BEGIN:VEVENT
UID:38429@icld.se
DTSTAMP:20260420T110300Z
DTSTART:20231213T150000Z
DTEND:20231213T163000Z
SUMMARY:Network for Gender Equality &#8211\; thematic meeting
DESCRIPTION:Thematic meeting with focus on Gender Equality in Sweden Simultaneous interpretation Spanish/English will be provided on Zoom   Working with gender equality in your municipality through an international network? We welcome municipalities and regions from Sweden\, Colombia and Guatemala to join this thematic meeting! Agenda for the thematic meeting with focus on Sweden  Simultaneous interpretation Spanish/English will be [&hellip\;]\n\nhttps://icld.se/sv/kalendarium/network-for-gender-equality-thematic-meeting-2/
URL:https://icld.se/sv/kalendarium/network-for-gender-equality-thematic-meeting-2/
END:VEVENT
END:VCALENDAR
