BEGIN:VCALENDAR
VERSION:2.0
PRODID:-//ICLD//EN
CALSCALE:GREGORIAN
METHOD:PUBLISH
BEGIN:VEVENT
UID:38555@icld.se
DTSTAMP:20260422T100003Z
DTSTART:20251103T070000Z
DTEND:20251107T160000Z
SUMMARY:Network for Equitable Health Conference
DESCRIPTION:Kenya\n\nhttps://icld.se/sv/kalendarium/network-for-equitable-health-conferens-2/
URL:https://icld.se/sv/kalendarium/network-for-equitable-health-conferens-2/
END:VEVENT
END:VCALENDAR
