BEGIN:VCALENDAR
VERSION:2.0
PRODID:-//ICLD//EN
CALSCALE:GREGORIAN
METHOD:PUBLISH
BEGIN:VEVENT
UID:38349@icld.se
DTSTAMP:20260420T110407Z
DTSTART:20221003T070000Z
DTEND:20221004T150000Z
SUMMARY:Municipal Partnership Training
DESCRIPTION:https://icld.se/sv/kalendarium/municipal-partnership-training/
URL:https://icld.se/sv/kalendarium/municipal-partnership-training/
END:VEVENT
END:VCALENDAR
