BEGIN:VCALENDAR
VERSION:2.0
PRODID:-//ICLD//EN
CALSCALE:GREGORIAN
METHOD:PUBLISH
BEGIN:VEVENT
UID:38573@icld.se
DTSTAMP:20260420T105908Z
DTSTART:20251210T110000Z
DTEND:20251210T114500Z
SUMMARY:Globala samarbeten stärker kommuner i tid av kris &#038\; krig &#8211\; ICLD på MR-dagarna
DESCRIPTION:ICLD och SKR arrangerar ett panelsamtal under MR dagarna i Kista om hur internationellt samarbete via ICLD\, mellan svenska och ukrainska kommuner bidrar både till att stärka den lokala demokratin hos de ukrainska partnerkommunerna – samtidigt som de svenska kommunerna får ta del av ovärderlig konkret kunskap avseende krisberedskap genom lärdomar från de ukrainska kommunerna. [&hellip\;]\n\nhttps://icld.se/sv/kalendarium/mr-dagarna/
URL:https://icld.se/sv/kalendarium/mr-dagarna/
END:VEVENT
END:VCALENDAR
