BEGIN:VCALENDAR
VERSION:2.0
PRODID:-//ICLD//EN
CALSCALE:GREGORIAN
METHOD:PUBLISH
BEGIN:VEVENT
UID:38466@icld.se
DTSTAMP:20260420T105944Z
DTSTART:20241114T070000Z
DTEND:20241115T160000Z
SUMMARY:MR Dagarna i Skellefteå
DESCRIPTION:ICLD deltar i MR dagarna i Skellefteå. Besök oss i vår monter och kom till vårt miniseminarium &#8221\;Lokalt och Globalt – för en mer jämställd och demokratisk värld&#8221\; den 15 november 09.00. Paneldeltagare miniseminarium: Evelina Fahlesson Kommunalråd\, kommunstyrelsens 1:e vice ordförande\, Skellefteå kommun Annika Dalen Utvecklingsstrateg jämställdhet\, Umeå kommun Urban Lindström Ledamot regionfullmäktige Region Västerbotten\, [&hellip\;]\n\nhttps://icld.se/sv/kalendarium/mr-dagarna-i-skelleftea/
URL:https://icld.se/sv/kalendarium/mr-dagarna-i-skelleftea/
END:VEVENT
END:VCALENDAR
