BEGIN:VCALENDAR
VERSION:2.0
PRODID:-//ICLD//EN
CALSCALE:GREGORIAN
METHOD:PUBLISH
BEGIN:VEVENT
UID:38460@icld.se
DTSTAMP:20260420T110220Z
DTSTART:20240625T120000Z
DTEND:20240625T124500Z
SUMMARY:Lokal demokrati och tillståndet i världen &#8211\; ICLD i Almedalen
DESCRIPTION:I ett samtal tillsammans med Jan Eliasson\, tidigare vice generalsekreterare i FN och svensk utrikesminister och Olivia Lindroth Steinwall demokrati- och jämställdhetspolitisk talesperson för CUF\, bjuder ICLD in till en diskussion om hur den lokala demokratin i världen egentligen mår och ger en global utblick från ett lokaldemokratiskt perspektiv. Dag och tid: 25 juni 14.00-14.45Plats: Cramérgatan 5\, [&hellip\;]\n\nhttps://icld.se/sv/kalendarium/lokal-demokrati-och-tillstandet-i-varlden/
URL:https://icld.se/sv/kalendarium/lokal-demokrati-och-tillstandet-i-varlden/
END:VEVENT
END:VCALENDAR
