BEGIN:VCALENDAR
VERSION:2.0
PRODID:-//ICLD//EN
CALSCALE:GREGORIAN
METHOD:PUBLISH
BEGIN:VEVENT
UID:38563@icld.se
DTSTAMP:20260420T110054Z
DTSTART:20250528T060000Z
DTEND:20250528T150000Z
SUMMARY:Plastic Governance and Democratic Institutions Conference
DESCRIPTION:May 26–28\, 2025 | Mombasa\, Kenya Plastic pollution is one of the most urgent environmental and public health challenges of our time. As global negotiations for a plastic treaty advance\, African nations—particularly within the East African Community—have a unique opportunity to shape effective\, inclusive plastic governance. Yet\, enforcement gaps\, weak public participation\, and institutional limitations [&hellip\;]\n\nhttps://icld.se/sv/kalendarium/local-democracy-talks-3/
URL:https://icld.se/sv/kalendarium/local-democracy-talks-3/
END:VEVENT
END:VCALENDAR
