BEGIN:VCALENDAR
VERSION:2.0
PRODID:-//ICLD//EN
CALSCALE:GREGORIAN
METHOD:PUBLISH
BEGIN:VEVENT
UID:38462@icld.se
DTSTAMP:20260420T110222Z
DTSTART:20240608T183000Z
DTEND:20240608T193000Z
SUMMARY:Local Democracy Talk- Women&#8217\;s political participation in municipalites
DESCRIPTION:Join a constructive dialogue on how we can strengthen gender equality and democracy at the local level. The panel will discuss: Don&#8217\;t miss the opportunity to hear from prominent experts and contribute to the discussion to create more inclusive and fair societies! Conversatorio sobre Democracia Local | Facebook\n\nhttps://icld.se/sv/kalendarium/local-democracy-talk-womens-political-participation-in-municipalites-2/
URL:https://icld.se/sv/kalendarium/local-democracy-talk-womens-political-participation-in-municipalites-2/
END:VEVENT
END:VCALENDAR
