BEGIN:VCALENDAR
VERSION:2.0
PRODID:-//ICLD//EN
CALSCALE:GREGORIAN
METHOD:PUBLISH
BEGIN:VEVENT
UID:38399@icld.se
DTSTAMP:20260420T110324Z
DTSTART:20230914T080000Z
DTEND:20230914T093000Z
SUMMARY:Local Democracy Talk: Morality Policies &#8211\; 4 strategies to end discrimination locally
DESCRIPTION:Morality Policies – 4 strategies to end discrimination locally Join us to explore 4 strategies for local governments to combat discriminatory policies and defend democracy! Discover how decentralization and strengthening local democracy can help resist autocratic tendencies in countries where democracy is retreating. Learn about tools and incentives that local governments can use to stand [&hellip\;]\n\nhttps://icld.se/sv/kalendarium/local-democracy-talk-morality-policies-4-strategies-for-local-governments-to-end-discrimination/
URL:https://icld.se/sv/kalendarium/local-democracy-talk-morality-policies-4-strategies-for-local-governments-to-end-discrimination/
END:VEVENT
END:VCALENDAR
