BEGIN:VCALENDAR
VERSION:2.0
PRODID:-//ICLD//EN
CALSCALE:GREGORIAN
METHOD:PUBLISH
BEGIN:VEVENT
UID:38727@icld.se
DTSTAMP:20260420T105912Z
DTSTART:20251120T123000Z
DTEND:20251120T150000Z
SUMMARY:Conversatorio sobre Democracia Local: Institucionalizar la igualdad de género: cómo las estructuras locales\, la participación y las políticas impulsan un cambio real
DESCRIPTION:Local Democracy Talk: Institutionalizing Gender Equality: How Local Structures\, Participation\, and Policies Drive Real Change 20 de noviembre | 13:30 hBiblioteca de UNITECNAR\, Barranquilla Organiza: Instituto Sueco para la Democracia Local (ICLD) Ponentes: Panelistas: Moderadora: Dra. María José Zapata Campos\, Directora de Investigación\, ICLD\n\nhttps://icld.se/sv/kalendarium/local-democracy-talk-in-barranquilla-colombia/
URL:https://icld.se/sv/kalendarium/local-democracy-talk-in-barranquilla-colombia/
END:VEVENT
END:VCALENDAR
