BEGIN:VCALENDAR
VERSION:2.0
PRODID:-//ICLD//EN
CALSCALE:GREGORIAN
METHOD:PUBLISH
BEGIN:VEVENT
UID:38270@icld.se
DTSTAMP:20260420T110034Z
DTSTART:20211020T063000Z
DTEND:20211020T103000Z
SUMMARY:Local Democracy Cross-pollination seminar
DESCRIPTION:COVID-19 Emerging issues for Local Democracies:Advancing Women’s Economic Empowerment in local democracies to mitigate Increased Unemployment and correlated Gender Based Violence In May and June 2021\, rising unemployment and the correlated spike in genderbased violence (GBV) were identified by ICLD International Training Programme participants and alumni as key emerging realities precipitated by the COVID-19 pandemic. [&hellip\;]\n\nhttps://icld.se/sv/kalendarium/local-democracy-cross-pollination-seminar-2/
URL:https://icld.se/sv/kalendarium/local-democracy-cross-pollination-seminar-2/
END:VEVENT
END:VCALENDAR
