BEGIN:VCALENDAR
VERSION:2.0
PRODID:-//ICLD//EN
CALSCALE:GREGORIAN
METHOD:PUBLISH
BEGIN:VEVENT
UID:38322@icld.se
DTSTAMP:20260420T110422Z
DTSTART:20220606T060000Z
DTEND:20220610T150000Z
SUMMARY:Local Democracy Academy
DESCRIPTION:More info\n\nhttps://icld.se/sv/kalendarium/local-democracy-academy/
URL:https://icld.se/sv/kalendarium/local-democracy-academy/
END:VEVENT
END:VCALENDAR
