BEGIN:VCALENDAR
VERSION:2.0
PRODID:-//ICLD//EN
CALSCALE:GREGORIAN
METHOD:PUBLISH
BEGIN:VEVENT
UID:38288@icld.se
DTSTAMP:20260420T110500Z
DTSTART:20211202T120000Z
DTEND:20211202T143000Z
SUMMARY:Kick off Mänskliga rättighetsnätverket &#8211\; omgång 2
DESCRIPTION:Kick off:en äger rum i Zoom. För mer information kontakta josefin.daleskog@icld.se\n\nhttps://icld.se/sv/kalendarium/kick-off-manskliga-rattighetsnatverket-omgang-2/
URL:https://icld.se/sv/kalendarium/kick-off-manskliga-rattighetsnatverket-omgang-2/
END:VEVENT
END:VCALENDAR
