BEGIN:VCALENDAR
VERSION:2.0
PRODID:-//ICLD//EN
CALSCALE:GREGORIAN
METHOD:PUBLISH
BEGIN:VEVENT
UID:38299@icld.se
DTSTAMP:20260420T110450Z
DTSTART:20220215T080000Z
DTEND:20220215T160000Z
SUMMARY:Jämlik hälsa\, Modul 4: Antikorruptionsarbete
DESCRIPTION:https://icld.se/sv/kalendarium/jamlik-halsa-modul-4-antikorruptionsarbete/
URL:https://icld.se/sv/kalendarium/jamlik-halsa-modul-4-antikorruptionsarbete/
END:VEVENT
END:VCALENDAR
