BEGIN:VCALENDAR
VERSION:2.0
PRODID:-//ICLD//EN
CALSCALE:GREGORIAN
METHOD:PUBLISH
BEGIN:VEVENT
UID:38247@icld.se
DTSTAMP:20260420T110530Z
DTSTART;VALUE=DATE:20210615
DTEND;VALUE=DATE:20210618
SUMMARY:Postponed to autumn &#8211\; ITP Zimbabwe Leadership Program &#8211\; Inception Workshop
DESCRIPTION:https://icld.se/sv/kalendarium/itp-zimbabwe-program-inception-workshop/
URL:https://icld.se/sv/kalendarium/itp-zimbabwe-program-inception-workshop/
END:VEVENT
END:VCALENDAR
