BEGIN:VCALENDAR
VERSION:2.0
PRODID:-//ICLD//EN
CALSCALE:GREGORIAN
METHOD:PUBLISH
BEGIN:VEVENT
UID:38245@icld.se
DTSTAMP:20260420T110534Z
DTSTART;VALUE=DATE:20210525
DTEND;VALUE=DATE:20210528
SUMMARY:ITP  Women&#8217\;s political leadership program &#8211\; Sverigefas
DESCRIPTION:https://icld.se/sv/kalendarium/itp-womens-political-leadership-program-sverigefas/
URL:https://icld.se/sv/kalendarium/itp-womens-political-leadership-program-sverigefas/
END:VEVENT
END:VCALENDAR
