BEGIN:VCALENDAR
VERSION:2.0
PRODID:-//ICLD//EN
CALSCALE:GREGORIAN
METHOD:PUBLISH
BEGIN:VEVENT
UID:38242@icld.se
DTSTAMP:20260420T110538Z
DTSTART;VALUE=DATE:20210518
DTEND;VALUE=DATE:20210521
SUMMARY:ITP SymbioCity Program &#8211\;  Follow-up Workshop
DESCRIPTION:https://icld.se/sv/kalendarium/itp-symbiocity-program-follow-up-workshop/
URL:https://icld.se/sv/kalendarium/itp-symbiocity-program-follow-up-workshop/
END:VEVENT
END:VCALENDAR
