BEGIN:VCALENDAR
VERSION:2.0
PRODID:-//ICLD//EN
CALSCALE:GREGORIAN
METHOD:PUBLISH
BEGIN:VEVENT
UID:38314@icld.se
DTSTAMP:20260420T110426Z
DTSTART:20220607T070000Z
DTEND:20220618T150000Z
SUMMARY:ITP Swedish Phase of the Women’s Political Leadership Programme\, cohort 8
DESCRIPTION:https://icld.se/sv/kalendarium/itp-swedish-phase-of-the-womens-political-leadership-programme-cohort-8/
URL:https://icld.se/sv/kalendarium/itp-swedish-phase-of-the-womens-political-leadership-programme-cohort-8/
END:VEVENT
END:VCALENDAR
