BEGIN:VCALENDAR
VERSION:2.0
PRODID:-//ICLD//EN
CALSCALE:GREGORIAN
METHOD:PUBLISH
BEGIN:VEVENT
UID:38297@icld.se
DTSTAMP:20260420T110444Z
DTSTART:20220214T080000Z
DTEND:20220225T160000Z
SUMMARY:ITP Swedish Phase of the SymbioCity – Inclusive Urban Development Programme\, cohort 7
DESCRIPTION:https://icld.se/sv/kalendarium/itp-swedish-phase-of-the-symbiocity-inclusive-urban-development-programme-cohort-7/
URL:https://icld.se/sv/kalendarium/itp-swedish-phase-of-the-symbiocity-inclusive-urban-development-programme-cohort-7/
END:VEVENT
END:VCALENDAR
