BEGIN:VCALENDAR
VERSION:2.0
PRODID:-//ICLD//EN
CALSCALE:GREGORIAN
METHOD:PUBLISH
BEGIN:VEVENT
UID:38316@icld.se
DTSTAMP:20260420T110424Z
DTSTART:20220926T070000Z
DTEND:20220930T150000Z
SUMMARY:ITP Swedish Phase of the Inclusive Local Governance Programme and Human Rights Network 1
DESCRIPTION:https://icld.se/sv/kalendarium/itp-swedish-phase-of-the-inclusive-local-governance-programme-cohort-4/
URL:https://icld.se/sv/kalendarium/itp-swedish-phase-of-the-inclusive-local-governance-programme-cohort-4/
END:VEVENT
END:VCALENDAR
