BEGIN:VCALENDAR
VERSION:2.0
PRODID:-//ICLD//EN
CALSCALE:GREGORIAN
METHOD:PUBLISH
BEGIN:VEVENT
UID:38310@icld.se
DTSTAMP:20260420T110432Z
DTSTART:20220523T070000Z
DTEND:20220525T150000Z
SUMMARY:ITP Regional workshop of the Zimbabwe Leadership Programme\,  Johannesburg
DESCRIPTION:https://icld.se/sv/kalendarium/itp-regional-workshop-of-the-zimbabwe-leadership-programme-cohort-5/
URL:https://icld.se/sv/kalendarium/itp-regional-workshop-of-the-zimbabwe-leadership-programme-cohort-5/
END:VEVENT
END:VCALENDAR
