BEGIN:VCALENDAR
VERSION:2.0
PRODID:-//ICLD//EN
CALSCALE:GREGORIAN
METHOD:PUBLISH
BEGIN:VEVENT
UID:38293@icld.se
DTSTAMP:20260420T110454Z
DTSTART:20220208T080000Z
DTEND:20220210T160000Z
SUMMARY:ITP Inception workshop of the Women&#8217\;s Political Leadership Programme\, cohort 8
DESCRIPTION:https://icld.se/sv/kalendarium/itp-inception-workshop-of-the-womens-political-leadership-programme-cohort-8/
URL:https://icld.se/sv/kalendarium/itp-inception-workshop-of-the-womens-political-leadership-programme-cohort-8/
END:VEVENT
END:VCALENDAR
