BEGIN:VCALENDAR
VERSION:2.0
PRODID:-//ICLD//EN
CALSCALE:GREGORIAN
METHOD:PUBLISH
BEGIN:VEVENT
UID:38249@icld.se
DTSTAMP:20260420T110526Z
DTSTART;VALUE=DATE:20210816
DTEND;VALUE=DATE:20210823
SUMMARY:ITP Human Rights Based Approach Program &#8211\; Follow-up Workshop
DESCRIPTION:https://icld.se/sv/kalendarium/itp-human-rights-based-approach-program-follow-up-workshop/
URL:https://icld.se/sv/kalendarium/itp-human-rights-based-approach-program-follow-up-workshop/
END:VEVENT
END:VCALENDAR
