BEGIN:VCALENDAR
VERSION:2.0
PRODID:-//ICLD//EN
CALSCALE:GREGORIAN
METHOD:PUBLISH
BEGIN:VEVENT
UID:38279@icld.se
DTSTAMP:20260420T110506Z
DTSTART:20211206T070000Z
DTEND:20211209T160000Z
SUMMARY:ITP Final Workshop of Women&#8217\;s Political Leadership Programme
DESCRIPTION:https://icld.se/sv/kalendarium/itp-final-workshop-of-womens-political-leadership-programme/
URL:https://icld.se/sv/kalendarium/itp-final-workshop-of-womens-political-leadership-programme/
END:VEVENT
END:VCALENDAR
