BEGIN:VCALENDAR
VERSION:2.0
PRODID:-//ICLD//EN
CALSCALE:GREGORIAN
METHOD:PUBLISH
BEGIN:VEVENT
UID:38308@icld.se
DTSTAMP:20260420T110434Z
DTSTART:20220816T070000Z
DTEND:20220824T150000Z
SUMMARY:ITP Swedish Phase  Symbio City &#8211\; Inclusive Urban Development Programme\, cohort 7
DESCRIPTION:https://icld.se/sv/kalendarium/itp-combined-workshop-swedish-phase-final-workshop-of-the-symbio-city-inclusive-urban-development-programme-cohort-7/
URL:https://icld.se/sv/kalendarium/itp-combined-workshop-swedish-phase-final-workshop-of-the-symbio-city-inclusive-urban-development-programme-cohort-7/
END:VEVENT
END:VCALENDAR
