BEGIN:VCALENDAR
VERSION:2.0
PRODID:-//ICLD//EN
CALSCALE:GREGORIAN
METHOD:PUBLISH
BEGIN:VEVENT
UID:38531@icld.se
DTSTAMP:20260420T110122Z
DTSTART;VALUE=DATE:20251220
DTEND;VALUE=DATE:20251221
SUMMARY:International Human Solidarity Day
DESCRIPTION:https://icld.se/sv/kalendarium/international-human-solidarity-day/
URL:https://icld.se/sv/kalendarium/international-human-solidarity-day/
END:VEVENT
END:VCALENDAR
