BEGIN:VCALENDAR
VERSION:2.0
PRODID:-//ICLD//EN
CALSCALE:GREGORIAN
METHOD:PUBLISH
BEGIN:VEVENT
UID:38533@icld.se
DTSTAMP:20260420T110120Z
DTSTART;VALUE=DATE:20241220
DTEND;VALUE=DATE:20241221
SUMMARY:International Human Solidarity Day
DESCRIPTION:https://icld.se/sv/kalendarium/international-human-solidarity-day-3/
URL:https://icld.se/sv/kalendarium/international-human-solidarity-day-3/
END:VEVENT
END:VCALENDAR
