BEGIN:VCALENDAR
VERSION:2.0
PRODID:-//ICLD//EN
CALSCALE:GREGORIAN
METHOD:PUBLISH
BEGIN:VEVENT
UID:38501@icld.se
DTSTAMP:20260420T110152Z
DTSTART;VALUE=DATE:20250330
DTEND;VALUE=DATE:20250331
SUMMARY:International Day of Zero Waste
DESCRIPTION:https://icld.se/sv/kalendarium/international-day-of-zero-waste/
URL:https://icld.se/sv/kalendarium/international-day-of-zero-waste/
END:VEVENT
END:VCALENDAR
