BEGIN:VCALENDAR
VERSION:2.0
PRODID:-//ICLD//EN
CALSCALE:GREGORIAN
METHOD:PUBLISH
BEGIN:VEVENT
UID:38519@icld.se
DTSTAMP:20260420T080404Z
DTSTART;VALUE=DATE:20250915
DTEND;VALUE=DATE:20250916
SUMMARY:International Day of Democracy
DESCRIPTION:https://icld.se/sv/kalendarium/international-day-of-democracy/
URL:https://icld.se/sv/kalendarium/international-day-of-democracy/
END:VEVENT
END:VCALENDAR
