BEGIN:VCALENDAR
VERSION:2.0
PRODID:-//ICLD//EN
CALSCALE:GREGORIAN
METHOD:PUBLISH
BEGIN:VEVENT
UID:38497@icld.se
DTSTAMP:20260420T110156Z
DTSTART;VALUE=DATE:20250321
DTEND;VALUE=DATE:20250322
SUMMARY:International Day for the Elimination of Racial Discrimination
DESCRIPTION:https://icld.se/sv/kalendarium/international-day-for-the-elimination-of-racial-discrimination/
URL:https://icld.se/sv/kalendarium/international-day-for-the-elimination-of-racial-discrimination/
END:VEVENT
END:VCALENDAR
