BEGIN:VCALENDAR
VERSION:2.0
PRODID:-//ICLD//EN
CALSCALE:GREGORIAN
METHOD:PUBLISH
BEGIN:VEVENT
UID:38467@icld.se
DTSTAMP:20260420T110224Z
DTSTART:20240915T060000Z
DTEND:20240915T150000Z
SUMMARY:Internationella demokratidagen
DESCRIPTION:https://icld.se/sv/kalendarium/inetrnationella-demokratidagen/
URL:https://icld.se/sv/kalendarium/inetrnationella-demokratidagen/
END:VEVENT
END:VCALENDAR
